BEGIN:VCALENDAR
VERSION:2.0
PRODID:-//Tai Chi Chuan Schule Duisburg ITCCA - ECPv6.15.20//NONSGML v1.0//EN
CALSCALE:GREGORIAN
METHOD:PUBLISH
X-WR-CALNAME:Tai Chi Chuan Schule Duisburg ITCCA
X-ORIGINAL-URL:https://tai-chi-duisburg.de
X-WR-CALDESC:Veranstaltungen für Tai Chi Chuan Schule Duisburg ITCCA
REFRESH-INTERVAL;VALUE=DURATION:PT1H
X-Robots-Tag:noindex
X-PUBLISHED-TTL:PT1H
BEGIN:VTIMEZONE
TZID:UTC
BEGIN:STANDARD
TZOFFSETFROM:+0000
TZOFFSETTO:+0000
TZNAME:UTC
DTSTART:20230101T000000
END:STANDARD
END:VTIMEZONE
BEGIN:VEVENT
DTSTART;TZID=UTC:20240630T094500
DTEND;TZID=UTC:20240630T150000
DTSTAMP:20260425T144831
CREATED:20180420T164136Z
LAST-MODIFIED:20240505T094003Z
UID:1045-1719740700-1719759600@tai-chi-duisburg.de
SUMMARY:Tao-Meditation
DESCRIPTION:In diesem Seminar vermittelt Meisterschüler Werner Broch einen Weg zur Quelle des Tai-Chi-Chuan\, die Tao-Meditation des klassischen Yang-Stils der ITCCA.\nErgänzend kommen Übungen aus der taoistischen Selbstmassagepraxis und Tao-Übungen hinzu.
URL:https://tai-chi-duisburg.de/event/taomeditation/
LOCATION:Tai Chi Chuan Schule Duisburg ITCCA\, Moltkestraße 45\, Duisburg\, NRW\, 47058\, Germany
CATEGORIES:Tai Chi Chuan Duisburg
ATTACH;FMTTYPE=image/jpeg:https://tai-chi-duisburg.de/2018/wp-content/uploads/2018/03/Meditation-01.jpg
ORGANIZER;CN="Tai Chi Schule Duisburg (ITCCA)":MAILTO:info@tai-chi-duisburg.de
END:VEVENT
END:VCALENDAR