BEGIN:VCALENDAR
VERSION:2.0
PRODID:-//Tai Chi Chuan Schule Duisburg ITCCA - ECPv6.15.20//NONSGML v1.0//EN
CALSCALE:GREGORIAN
METHOD:PUBLISH
X-ORIGINAL-URL:https://tai-chi-duisburg.de
X-WR-CALDESC:Veranstaltungen für Tai Chi Chuan Schule Duisburg ITCCA
REFRESH-INTERVAL;VALUE=DURATION:PT1H
X-Robots-Tag:noindex
X-PUBLISHED-TTL:PT1H
BEGIN:VTIMEZONE
TZID:UTC
BEGIN:STANDARD
TZOFFSETFROM:+0000
TZOFFSETTO:+0000
TZNAME:UTC
DTSTART:20250101T000000
END:STANDARD
END:VTIMEZONE
BEGIN:VEVENT
DTSTART;VALUE=DATE:20260725
DTEND;VALUE=DATE:20260730
DTSTAMP:20260421T213741
CREATED:20260421T100124Z
LAST-MODIFIED:20260421T100459Z
UID:1908-1784937600-1785369599@tai-chi-duisburg.de
SUMMARY:Sommerseminar mit den Meisterschülern Richard Sämmer und Werner Broch
DESCRIPTION:Tai-Chi in der Natur zu üben ist ein schönes Erlebnis. In ländlicher Umgebung\, unter blauem Himmelszelt und bei guter Luft\, laden diese Ferienkurse sowohl zum Lernen und Üben\, als auch zum Erholen und Entspannen ein.\nDas Wissen des Yang-Stils von Meister Chu wird durch die Meisterschüler Werner Broch und Richard Sämmer weitergeführt.\nIn den einzelnen Kursstunden werden Inhalte der Jahresseminare geübt und vertieft. Mit diesem Seminarangebot sollem Fortgeschrittenen und im Besonderen auch Anfängern\, die Prinzipien des „Orginalen Yang Stils“ nähergebracht werden.\n 
URL:https://tai-chi-duisburg.de/event/sommerseminar-den-meisterschuelern-richard-saemmer-und-werner-broch/
CATEGORIES:Tai Chi Chuan Südwest
ATTACH;FMTTYPE=image/jpeg:https://tai-chi-duisburg.de/2018/wp-content/uploads/2025/11/Schwert-7.jpg
END:VEVENT
END:VCALENDAR